BEGIN:VCALENDAR
VERSION:2.0
PRODID:-//Associazione Chirone - ECPv6.15.20//NONSGML v1.0//EN
CALSCALE:GREGORIAN
METHOD:PUBLISH
X-ORIGINAL-URL:https://www.chirone.eu
X-WR-CALDESC:Eventi per Associazione Chirone
REFRESH-INTERVAL;VALUE=DURATION:PT1H
X-Robots-Tag:noindex
X-PUBLISHED-TTL:PT1H
BEGIN:VTIMEZONE
TZID:Europe/Paris
BEGIN:DAYLIGHT
TZOFFSETFROM:+0100
TZOFFSETTO:+0200
TZNAME:CEST
DTSTART:20240331T010000
END:DAYLIGHT
BEGIN:STANDARD
TZOFFSETFROM:+0200
TZOFFSETTO:+0100
TZNAME:CET
DTSTART:20241027T010000
END:STANDARD
BEGIN:DAYLIGHT
TZOFFSETFROM:+0100
TZOFFSETTO:+0200
TZNAME:CEST
DTSTART:20250330T010000
END:DAYLIGHT
BEGIN:STANDARD
TZOFFSETFROM:+0200
TZOFFSETTO:+0100
TZNAME:CET
DTSTART:20251026T010000
END:STANDARD
BEGIN:DAYLIGHT
TZOFFSETFROM:+0100
TZOFFSETTO:+0200
TZNAME:CEST
DTSTART:20260329T010000
END:DAYLIGHT
BEGIN:STANDARD
TZOFFSETFROM:+0200
TZOFFSETTO:+0100
TZNAME:CET
DTSTART:20261025T010000
END:STANDARD
END:VTIMEZONE
BEGIN:VEVENT
DTSTART;TZID=Europe/Paris:20251115T150000
DTEND;TZID=Europe/Paris:20251115T170000
DTSTAMP:20260420T101311
CREATED:20250831T132506Z
LAST-MODIFIED:20251021T095638Z
UID:10000004-1763218800-1763226000@www.chirone.eu
SUMMARY:Escape room Tower tales
DESCRIPTION:Tower Tales è un’escape room all’aperto di Chirone che trasforma il territorio del Municipio in uno spazio ludico\, narrativo e formativo. Attraverso una serie di indizi disseminati tra torri\, piazze e luoghi simbolici del Municipio VI\, i partecipanti – divisi in squadre – dovranno risolvere enigmi legati alla storia\, all’architettura e ai misteri del territorio per proseguire nella propria avventura. L’avventura comincerà dal parco Yaron Salatino in via Lentini\, a Roma. In caso di maltempo è prevista un’alternativa al chiuso a pochi passi.  \n  \nLa partecipazione è gratuita con iscrizione obbligatoria ed aperta a giovani tra i 16 e i 30 anni. Per i minorenni è richiesta l’iscrizione da parte del genitore. \nPer chi vuole\, è possibile già indicare i compagni di squadra che si desiderano avere nel modulo di iscrizione a fondo pagina. Nel limite del possibile l’organizzazione terrà conto delle preferenze espresse. \n  \nIl luogo di partenza può essere raggiunto con i seguenti mezzi pubblici; \n\nMetro C Torre Angela\n\n  \nIl progetto\, promosso da Roma Capitale – Assessorato alla Cultura\, è vincitore dell’Avviso Pubblico Artes et Iubilaeum – 2025\, finanziato dall’Unione Europea Next Generation EU per grandi eventi turistici nell’ambito del PNRR sulla misura M1C3 – Investimento 4.3 – Caput Mundi \nDurante la manifestazione potranno essere realizzate fotografie e riprese video. \n 
URL:https://www.chirone.eu/evento/escape-room-tower-tales/
LOCATION:Fermata Metro C – Giardinetti\, Via della Fattoria di Torrenova\, 3\, Roma\, Roma\, 00133\, Italy
CATEGORIES:Escape room
ATTACH;FMTTYPE=image/jpeg:https://www.chirone.eu/wp-content/uploads/2025/08/Roma-Turris-Tower-Tales.jpg
ORGANIZER;CN="APS Chirone":MAILTO:info@chirone.eu
END:VEVENT
BEGIN:VEVENT
DTSTART;TZID=Europe/Paris:20251102T153000
DTEND;TZID=Europe/Paris:20251102T170000
DTSTAMP:20260420T101311
CREATED:20250831T134043Z
LAST-MODIFIED:20251029T170023Z
UID:10000005-1762097400-1762102800@www.chirone.eu
SUMMARY:Scoprire il Municipio delle Torri pedalando
DESCRIPTION:Storia e mobilità sostenibile si intrecciano in una visita guidata in bicicletta attraverso il territorio del Municipio VI. Lungo un itinerario che tocca alcune delle principali torri e i luoghi-simbolo della storia romana\, medievale e moderna\, i partecipanti saranno accompagnati da una guida esperta e da Francesco Patané\, attore che interpreterà brani letterari e cronache del passato.  \nProgrammato nel 50° anniversario della scomparsa di Pier Paolo Pasolini\, il percorso\, che partirà dalla fermata Metro C- Giardinetti\, si snoda tra storia e leggenda raccontando la bellezza che si può trovare non solo nel cuore della Capitale\, ma anche nelle sue periferie\, che furono tanto care allo scrittore.  \n  \nLa partecipazione è gratuita con iscrizione obbligatoria attraverso il modulo in calce a questa pagina. \nGrazie a Dott\, Mobility Partner dell’iniziativa\, forniremo direttamente noi le biciclette per la pedalata culturale\, ma se lo desideri puoi portare la tua. \nL’attività è riservata a utenti maggiorenni \n  \nIl luogo di partenza può essere raggiunto con i seguenti mezzi pubblici: \n\nMetro C Giardinetti\nBus 056\, 106\n\n  \nIl progetto\, promosso da Roma Capitale – Assessorato alla Cultura\, è vincitore dell’Avviso Pubblico Artes et Iubilaeum – 2025\, finanziato dall’Unione Europea Next Generation EU per grandi eventi turistici nell’ambito del PNRR sulla misura M1C3 – Investimento 4.3 – Caput Mundi ed è patrocinato dal Municipio VI delle Torri. \nDurante la manifestazione potranno essere realizzate fotografie e riprese video. \nAttualmente l’evento ha raggiunto il numero massimo di adesioni. Gli interessati possono scrivere a romaturris@chirone.eu per essere inseriti in lista di attesa.
URL:https://www.chirone.eu/evento/scoprire-il-municipio-delle-torri-pedalando/
LOCATION:Fermata Metro C – Giardinetti\, Via della Fattoria di Torrenova\, 3\, Roma\, Roma\, 00133\, Italy
CATEGORIES:Passeggiate culturali
ATTACH;FMTTYPE=image/jpeg:https://www.chirone.eu/wp-content/uploads/2025/08/Scoprire-il-municipio-delle-torri-pedalando.jpg
ORGANIZER;CN="APS Chirone":MAILTO:info@chirone.eu
END:VEVENT
END:VCALENDAR